BEGIN:VCALENDAR
VERSION:2.0
PRODID:Salmon Gums Development Group
CALSCALE:GREGORIAN
BEGIN:VEVENT
DTSTAMP:20260424T055012Z
UID:8e4f13d4-0d00-4b37-b158-8cf5bc8ed502
DTSTART:20220315T010000Z
DTEND:20220315T070000Z
DESCRIPTION:
SUMMARY:Salmon Gums Faction Carnival 
URL;VALUE=URI:https://sgdg.tidyhq.com/public/schedule/events/40510-salmon-g
 ums-faction-carnival
END:VEVENT
BEGIN:VEVENT
DTSTAMP:20260424T055012Z
UID:29b04539-12cd-443f-9a33-b745d2a0257f
DTSTART:20220317T020000Z
DTEND:20220317T090000Z
DESCRIPTION:
SUMMARY:North Mallee Crop Updates
URL;VALUE=URI:https://sgdg.tidyhq.com/public/schedule/events/40511-north-ma
 llee-crop-updates
END:VEVENT
BEGIN:VEVENT
DTSTAMP:20260424T055012Z
UID:e302019b-507e-4a5f-b74d-86b09b81f4d5
DTSTART:20220325T010000Z
DTEND:20220325T070000Z
DESCRIPTION:
LOCATION:Kendall Rd\, Scaddan WA 6447\, Australia
SUMMARY:Interschool Carnival (Salmon Gums to Host)
URL;VALUE=URI:https://sgdg.tidyhq.com/public/schedule/events/40513-intersch
 ool-carnival-salmon-gums-to-host
END:VEVENT
END:VCALENDAR
