BEGIN:VCALENDAR
VERSION:2.0
PRODID:Salmon Gums Development Group
CALSCALE:GREGORIAN
BEGIN:VEVENT
DTSTAMP:20260423T051235Z
UID:419efc99-47a9-4ced-b594-e4e864229361
DTSTART:20190509T110000Z
DTEND:20190509T130000Z
DESCRIPTION:May monthly meeting
LOCATION:Salmon Gums Community Centre\, Salmon Gums Community Centre
SUMMARY:May Meeting
URL;VALUE=URI:https://sgdg.tidyhq.com/public/schedule/meetings/c5f3cb292813
 8f45
END:VEVENT
BEGIN:VEVENT
DTSTAMP:20260423T051235Z
UID:2816cc96-9518-4c47-a06d-2aaf40628b9a
DTSTART:20190411T113000Z
DTEND:20190411T130000Z
DESCRIPTION:After the AGM\, a regular meeting will be held.
LOCATION:Salmon Gums Community Centre\, Salmon Gums Community Centre
SUMMARY:April Meeting
URL;VALUE=URI:https://sgdg.tidyhq.com/public/schedule/meetings/c465e57fa9ec
 3d02
END:VEVENT
BEGIN:VEVENT
DTSTAMP:20260423T051235Z
UID:357310fd-73a4-4601-a6a5-af05a0d3060f
DTSTART:20180503T110000Z
DTEND:20180503T155900Z
DESCRIPTION:May 2018 Development Group Meeting.
LOCATION:Salmon Gums Community Centre\, Salmon Gums Community Centre
SUMMARY:2018 May Meeting 
URL;VALUE=URI:https://sgdg.tidyhq.com/public/schedule/meetings/da865839373a
 7871
END:VEVENT
BEGIN:VEVENT
DTSTAMP:20260423T051235Z
UID:bd85f87f-96eb-41ab-8d15-c9768176bdac
DTSTART:20180410T130000Z
DTEND:20180410T150000Z
DESCRIPTION:Monthly meeting
LOCATION:Salmon Gums Community Centre\, Salmon Gums Community Centre
SUMMARY:April Meeting
URL;VALUE=URI:https://sgdg.tidyhq.com/public/schedule/meetings/864e82264c9e
 fbfb
END:VEVENT
END:VCALENDAR
